BEGIN:VCALENDAR
VERSION:2.0
PRODID:-//ChurchDev//Events//EN
CALSCALE:GREGORIAN
METHOD:PUBLISH
BEGIN:VEVENT
UID:7198-20260301@junix.churchdev.com
SUMMARY:Sunday Google
DTSTART:20260301T160000Z
DTEND:20260301T170000Z
DESCRIPTION:This is the event description\\n\\nhttps://junix.churchdev.com/events/sunday-google/
LOCATION:panther stadium
URL:https://junix.churchdev.com/events/sunday-google/
DTSTAMP:20260425T173835Z
END:VEVENT
END:VCALENDAR
