BEGIN:VCALENDAR
VERSION:2.0
PRODID:-//ChurchDev//Events//EN
CALSCALE:GREGORIAN
METHOD:PUBLISH
BEGIN:VEVENT
UID:5053-20210907@junix.churchdev.com
SUMMARY:Women&#8217\;s Bible Study
DTSTART:20210907T180000Z
DTEND:20210907T200000Z
DESCRIPTION:https://junix.churchdev.com/events/womens-bible-study/
LOCATION:panther stadium
URL:https://junix.churchdev.com/events/womens-bible-study/
DTSTAMP:20260425T190146Z
END:VEVENT
END:VCALENDAR
