BEGIN:VCALENDAR
VERSION:2.0
PRODID:-//ChurchDev//Events//EN
CALSCALE:GREGORIAN
METHOD:PUBLISH
BEGIN:VEVENT
UID:3448-20180220@junix.churchdev.com
SUMMARY:3rd Tues Every Month
DTSTART:20180221T010000Z
DTEND:20180221T020000Z
DESCRIPTION:https://junix.churchdev.com/events/oct-15th/
LOCATION:panther stadium
URL:https://junix.churchdev.com/events/oct-15th/
DTSTAMP:20260425T190051Z
END:VEVENT
END:VCALENDAR
